BEGIN:VCALENDAR
PRODID:-//eluceo/ical//2.0/EN
VERSION:2.0
CALSCALE:GREGORIAN
BEGIN:VEVENT
UID:fa44061271e680f8152ce475a40fc073
DTSTAMP:20260423T124846Z
SUMMARY:Middagvergadering
DESCRIPTION:Speaker(s): 
URL:https://oostende.rotary2130.org/en/agenda/show/96833
DTSTART;TZID=Europe/Zurich:20260609T120000
DTEND;TZID=Europe/Zurich:20260609T140000
LOCATION:Koninginnehof\, Platanendreef 1\, 8400 Oostende\, België
CATEGORIES:Rotary
END:VEVENT
BEGIN:VTIMEZONE
TZID:Europe/Zurich
BEGIN:DAYLIGHT
DTSTART:20260609T120000
TZNAME:CEST
TZOFFSETTO:+0200
TZOFFSETFROM:+0200
END:DAYLIGHT
END:VTIMEZONE
END:VCALENDAR
